BEGIN:VCALENDAR
VERSION:2.0
PRODID:-//La Chevalerie de la Breteque - ECPv6.15.20//NONSGML v1.0//EN
CALSCALE:GREGORIAN
METHOD:PUBLISH
X-WR-CALNAME:La Chevalerie de la Breteque
X-ORIGINAL-URL:https://www.lachevaleriedelabreteque.com
X-WR-CALDESC:Évènements pour La Chevalerie de la Breteque
REFRESH-INTERVAL;VALUE=DURATION:PT1H
X-Robots-Tag:noindex
X-PUBLISHED-TTL:PT1H
BEGIN:VTIMEZONE
TZID:Europe/Paris
BEGIN:DAYLIGHT
TZOFFSETFROM:+0100
TZOFFSETTO:+0200
TZNAME:CEST
DTSTART:20230326T010000
END:DAYLIGHT
BEGIN:STANDARD
TZOFFSETFROM:+0200
TZOFFSETTO:+0100
TZNAME:CET
DTSTART:20231029T010000
END:STANDARD
BEGIN:DAYLIGHT
TZOFFSETFROM:+0100
TZOFFSETTO:+0200
TZNAME:CEST
DTSTART:20240331T010000
END:DAYLIGHT
BEGIN:STANDARD
TZOFFSETFROM:+0200
TZOFFSETTO:+0100
TZNAME:CET
DTSTART:20241027T010000
END:STANDARD
BEGIN:DAYLIGHT
TZOFFSETFROM:+0100
TZOFFSETTO:+0200
TZNAME:CEST
DTSTART:20250330T010000
END:DAYLIGHT
BEGIN:STANDARD
TZOFFSETFROM:+0200
TZOFFSETTO:+0100
TZNAME:CET
DTSTART:20251026T010000
END:STANDARD
END:VTIMEZONE
BEGIN:VEVENT
DTSTART;VALUE=DATE:20241013
DTEND;VALUE=DATE:20241014
DTSTAMP:20260421T094955
CREATED:20240903T212209Z
LAST-MODIFIED:20240903T212209Z
UID:10000051-1728777600-1728863999@www.lachevaleriedelabreteque.com
SUMMARY:CSO TDA CLUB ET PONEY - Canteleu - 13/10/2024
DESCRIPTION:Inscription en ligne\n			\n				\n				\n				\n				\n				Veuillez activer JavaScript dans votre navigateur pour remplir ce formulaire.Veuillez activer JavaScript dans votre navigateur pour remplir ce formulaire.Nom *Prénom *Téléphone *E-mail *Nom du cheval *Epreuve *MessageAccord RGPD *Je consens à ce que ce site stocke mes informations envoyées afin que l'on puisse répondre à ma requête.Antispam *Combien de lettres comporte le mot Bretèque ? \n		\n		\n\n		Envoyer
URL:https://www.lachevaleriedelabreteque.com/evenements/cso-tda-club-et-poney-canteleu-13-10-2024/
CATEGORIES:Concours
ATTACH;FMTTYPE=image/jpeg:https://www.lachevaleriedelabreteque.com/wp-content/uploads/2023/11/event_cso_canteleu.jpg
END:VEVENT
BEGIN:VEVENT
DTSTART;VALUE=DATE:20241025
DTEND;VALUE=DATE:20241028
DTSTAMP:20260421T094955
CREATED:20240903T212338Z
LAST-MODIFIED:20240903T212338Z
UID:10000052-1729814400-1730073599@www.lachevaleriedelabreteque.com
SUMMARY:CSO TDA - LE TOUQUET 25-26-27/10/2024
DESCRIPTION:Inscription en ligne\n			\n				\n				\n				\n				\n				Veuillez activer JavaScript dans votre navigateur pour remplir ce formulaire.Veuillez activer JavaScript dans votre navigateur pour remplir ce formulaire.Nom *Prénom *Téléphone *E-mail *Nom du cheval *Epreuve *MessageAccord RGPD *Je consens à ce que ce site stocke mes informations envoyées afin que l'on puisse répondre à ma requête.Antispam *Combien font huit plus sept ? \n		\n		\n\n		Envoyer
URL:https://www.lachevaleriedelabreteque.com/evenements/cso-tda-le-touquet-25-26-27-10-2024/
CATEGORIES:Concours
ATTACH;FMTTYPE=image/jpeg:https://www.lachevaleriedelabreteque.com/wp-content/uploads/2023/06/event_cso.jpg
END:VEVENT
END:VCALENDAR