BEGIN:VCALENDAR
VERSION:2.0
PRODID:-//La Chevalerie de la Breteque - ECPv6.15.20//NONSGML v1.0//EN
CALSCALE:GREGORIAN
METHOD:PUBLISH
X-WR-CALNAME:La Chevalerie de la Breteque
X-ORIGINAL-URL:https://www.lachevaleriedelabreteque.com
X-WR-CALDESC:Évènements pour La Chevalerie de la Breteque
REFRESH-INTERVAL;VALUE=DURATION:PT1H
X-Robots-Tag:noindex
X-PUBLISHED-TTL:PT1H
BEGIN:VTIMEZONE
TZID:Europe/Paris
BEGIN:DAYLIGHT
TZOFFSETFROM:+0100
TZOFFSETTO:+0200
TZNAME:CEST
DTSTART:20240331T010000
END:DAYLIGHT
BEGIN:STANDARD
TZOFFSETFROM:+0200
TZOFFSETTO:+0100
TZNAME:CET
DTSTART:20241027T010000
END:STANDARD
BEGIN:DAYLIGHT
TZOFFSETFROM:+0100
TZOFFSETTO:+0200
TZNAME:CEST
DTSTART:20250330T010000
END:DAYLIGHT
BEGIN:STANDARD
TZOFFSETFROM:+0200
TZOFFSETTO:+0100
TZNAME:CET
DTSTART:20251026T010000
END:STANDARD
BEGIN:DAYLIGHT
TZOFFSETFROM:+0100
TZOFFSETTO:+0200
TZNAME:CEST
DTSTART:20260329T010000
END:DAYLIGHT
BEGIN:STANDARD
TZOFFSETFROM:+0200
TZOFFSETTO:+0100
TZNAME:CET
DTSTART:20261025T010000
END:STANDARD
END:VTIMEZONE
BEGIN:VEVENT
DTSTART;VALUE=DATE:20250112
DTEND;VALUE=DATE:20250113
DTSTAMP:20260421T114702
CREATED:20241115T110633Z
LAST-MODIFIED:20241115T114524Z
UID:10000069-1736640000-1736726399@www.lachevaleriedelabreteque.com
SUMMARY:CHALLENGE ET HUNTER - La Chevalerie - 12/01/25
DESCRIPTION:Inscription en ligne\n			\n				\n				\n				\n				\n				Veuillez activer JavaScript dans votre navigateur pour remplir ce formulaire.Veuillez activer JavaScript dans votre navigateur pour remplir ce formulaire.Nom *Prénom *Téléphone *E-mail *Nom du cheval *Epreuve *MessageAccord RGPD *Je consens à ce que ce site stocke mes informations envoyées afin que l'on puisse répondre à ma requête.Antispam *Quelle est la septième lettre du mot Breteque ? \n		\n		\n\n		Envoyer
URL:https://www.lachevaleriedelabreteque.com/evenements/challenge-et-hunter-la-chevalerie-12-01-25/
CATEGORIES:Concours
ATTACH;FMTTYPE=image/jpeg:https://www.lachevaleriedelabreteque.com/wp-content/uploads/2023/11/event_hunter_breteque.jpg
END:VEVENT
BEGIN:VEVENT
DTSTART;VALUE=DATE:20250119
DTEND;VALUE=DATE:20250120
DTSTAMP:20260421T114702
CREATED:20241115T111135Z
LAST-MODIFIED:20241115T114506Z
UID:10000070-1737244800-1737331199@www.lachevaleriedelabreteque.com
SUMMARY:CSO CLUB ET PONEY - La Chevalerie - 19/01/25
DESCRIPTION:Inscription en ligne\n			\n				\n				\n				\n				\n				Veuillez activer JavaScript dans votre navigateur pour remplir ce formulaire.Veuillez activer JavaScript dans votre navigateur pour remplir ce formulaire.Nom *Prénom *Téléphone *E-mail *Nom du cheval *Epreuve *MessageAccord RGPD *Je consens à ce que ce site stocke mes informations envoyées afin que l'on puisse répondre à ma requête.Antispam *Combien font huit plus sept ? \n		\n		\n\n		Envoyer
URL:https://www.lachevaleriedelabreteque.com/evenements/cso-club-et-poney-la-chevalerie-19-01-25/
CATEGORIES:Concours
ATTACH;FMTTYPE=image/jpeg:https://www.lachevaleriedelabreteque.com/wp-content/uploads/2023/11/event_cso_breteque.jpg
END:VEVENT
BEGIN:VEVENT
DTSTART;VALUE=DATE:20250126
DTEND;VALUE=DATE:20250127
DTSTAMP:20260421T114702
CREATED:20241115T111244Z
LAST-MODIFIED:20241115T114457Z
UID:10000071-1737849600-1737935999@www.lachevaleriedelabreteque.com
SUMMARY:DRESSAGE CLUB AMATEUR - La Chevalerie - 26/01/25
DESCRIPTION:Inscription en ligne\n			\n				\n				\n				\n				\n				Veuillez activer JavaScript dans votre navigateur pour remplir ce formulaire.Veuillez activer JavaScript dans votre navigateur pour remplir ce formulaire.Nom *Prénom *Téléphone *E-mail *Nom du cheval *Epreuve *MessageAccord RGPD *Je consens à ce que ce site stocke mes informations envoyées afin que l'on puisse répondre à ma requête.Antispam *Quelle est la septième lettre du mot Breteque ? \n		\n		\n\n		Envoyer
URL:https://www.lachevaleriedelabreteque.com/evenements/dressage-club-amateur-la-chevalerie-26-01-25/
CATEGORIES:Concours
ATTACH;FMTTYPE=image/jpeg:https://www.lachevaleriedelabreteque.com/wp-content/uploads/2023/11/event_dressage_breteque.jpg
END:VEVENT
END:VCALENDAR