BEGIN:VCALENDAR
VERSION:2.0
PRODID:-//La Chevalerie de la Breteque - ECPv6.15.20//NONSGML v1.0//EN
CALSCALE:GREGORIAN
METHOD:PUBLISH
X-WR-CALNAME:La Chevalerie de la Breteque
X-ORIGINAL-URL:https://www.lachevaleriedelabreteque.com
X-WR-CALDESC:Évènements pour La Chevalerie de la Breteque
REFRESH-INTERVAL;VALUE=DURATION:PT1H
X-Robots-Tag:noindex
X-PUBLISHED-TTL:PT1H
BEGIN:VTIMEZONE
TZID:Europe/Paris
BEGIN:DAYLIGHT
TZOFFSETFROM:+0100
TZOFFSETTO:+0200
TZNAME:CEST
DTSTART:20240331T010000
END:DAYLIGHT
BEGIN:STANDARD
TZOFFSETFROM:+0200
TZOFFSETTO:+0100
TZNAME:CET
DTSTART:20241027T010000
END:STANDARD
BEGIN:DAYLIGHT
TZOFFSETFROM:+0100
TZOFFSETTO:+0200
TZNAME:CEST
DTSTART:20250330T010000
END:DAYLIGHT
BEGIN:STANDARD
TZOFFSETFROM:+0200
TZOFFSETTO:+0100
TZNAME:CET
DTSTART:20251026T010000
END:STANDARD
BEGIN:DAYLIGHT
TZOFFSETFROM:+0100
TZOFFSETTO:+0200
TZNAME:CEST
DTSTART:20260329T010000
END:DAYLIGHT
BEGIN:STANDARD
TZOFFSETFROM:+0200
TZOFFSETTO:+0100
TZNAME:CET
DTSTART:20261025T010000
END:STANDARD
END:VTIMEZONE
BEGIN:VEVENT
DTSTART;TZID=Europe/Paris:20250405T080000
DTEND;TZID=Europe/Paris:20250406T180000
DTSTAMP:20260421T174439
CREATED:20241115T143519Z
LAST-MODIFIED:20241115T143519Z
UID:10000088-1743840000-1743962400@www.lachevaleriedelabreteque.com
SUMMARY:TOURNÉE DES AS - Deauville - 05-06/04/25
DESCRIPTION:Inscription en ligne\n			\n				\n				\n				\n				\n				[ninja_form id=3]
URL:https://www.lachevaleriedelabreteque.com/evenements/tournee-des-as-deauville-05-06-04-25/
CATEGORIES:Concours
ATTACH;FMTTYPE=image/jpeg:https://www.lachevaleriedelabreteque.com/wp-content/uploads/2024/11/tournee-des-as-deauville.jpg
END:VEVENT
BEGIN:VEVENT
DTSTART;VALUE=DATE:20250420
DTEND;VALUE=DATE:20250422
DTSTAMP:20260421T174439
CREATED:20241115T113639Z
LAST-MODIFIED:20241115T113639Z
UID:10000081-1745107200-1745279999@www.lachevaleriedelabreteque.com
SUMMARY:CSO CHAMPIONNAT DÉPARTEMENTAL - Canteleu - 20-21/04/25
DESCRIPTION:Inscription en ligne\n			\n				\n				\n				\n				\n				Veuillez activer JavaScript dans votre navigateur pour remplir ce formulaire.Veuillez activer JavaScript dans votre navigateur pour remplir ce formulaire.Nom *Prénom *Téléphone *E-mail *Nom du cheval *Epreuve *MessageAccord RGPD *Je consens à ce que ce site stocke mes informations envoyées afin que l'on puisse répondre à ma requête.Antispam *Quelle est la septième lettre du mot Breteque ? \n		\n		\n\n		Envoyer
URL:https://www.lachevaleriedelabreteque.com/evenements/cso-championnat-departemental-canteleu-20-21-04-25/
CATEGORIES:Concours
ATTACH;FMTTYPE=image/jpeg:https://www.lachevaleriedelabreteque.com/wp-content/uploads/2023/11/event_cso_canteleu.jpg
END:VEVENT
BEGIN:VEVENT
DTSTART;VALUE=DATE:20250427
DTEND;VALUE=DATE:20250428
DTSTAMP:20260421T174439
CREATED:20241115T112455Z
LAST-MODIFIED:20241115T114642Z
UID:10000075-1745712000-1745798399@www.lachevaleriedelabreteque.com
SUMMARY:FINALE DU CHALLENGE - La Chevalerie - 27/04/25
DESCRIPTION:Inscription en ligne\n			\n				\n				\n				\n				\n				Veuillez activer JavaScript dans votre navigateur pour remplir ce formulaire.Veuillez activer JavaScript dans votre navigateur pour remplir ce formulaire.Nom *Prénom *Téléphone *E-mail *Nom du cheval *Epreuve *MessageAccord RGPD *Je consens à ce que ce site stocke mes informations envoyées afin que l'on puisse répondre à ma requête.Antispam *Quelle est la quatrième lettre du mot Chevalerie ? \n		\n		\n\n		Envoyer
URL:https://www.lachevaleriedelabreteque.com/evenements/finale-du-challenge-la-chevalerie-27-04-25/
CATEGORIES:Concours
ATTACH;FMTTYPE=image/jpeg:https://www.lachevaleriedelabreteque.com/wp-content/uploads/2023/11/event_challenge_hiver_finale.jpg
END:VEVENT
END:VCALENDAR