BEGIN:VCALENDAR
VERSION:2.0
PRODID:-//La Chevalerie de la Breteque - ECPv6.15.20//NONSGML v1.0//EN
CALSCALE:GREGORIAN
METHOD:PUBLISH
X-WR-CALNAME:La Chevalerie de la Breteque
X-ORIGINAL-URL:https://www.lachevaleriedelabreteque.com
X-WR-CALDESC:Évènements pour La Chevalerie de la Breteque
REFRESH-INTERVAL;VALUE=DURATION:PT1H
X-Robots-Tag:noindex
X-PUBLISHED-TTL:PT1H
BEGIN:VTIMEZONE
TZID:Europe/Paris
BEGIN:DAYLIGHT
TZOFFSETFROM:+0100
TZOFFSETTO:+0200
TZNAME:CEST
DTSTART:20240331T010000
END:DAYLIGHT
BEGIN:STANDARD
TZOFFSETFROM:+0200
TZOFFSETTO:+0100
TZNAME:CET
DTSTART:20241027T010000
END:STANDARD
BEGIN:DAYLIGHT
TZOFFSETFROM:+0100
TZOFFSETTO:+0200
TZNAME:CEST
DTSTART:20250330T010000
END:DAYLIGHT
BEGIN:STANDARD
TZOFFSETFROM:+0200
TZOFFSETTO:+0100
TZNAME:CET
DTSTART:20251026T010000
END:STANDARD
BEGIN:DAYLIGHT
TZOFFSETFROM:+0100
TZOFFSETTO:+0200
TZNAME:CEST
DTSTART:20260329T010000
END:DAYLIGHT
BEGIN:STANDARD
TZOFFSETFROM:+0200
TZOFFSETTO:+0100
TZNAME:CET
DTSTART:20261025T010000
END:STANDARD
END:VTIMEZONE
BEGIN:VEVENT
DTSTART;VALUE=DATE:20250502
DTEND;VALUE=DATE:20250505
DTSTAMP:20260421T193416
CREATED:20241115T114159Z
LAST-MODIFIED:20241115T114159Z
UID:10000082-1746144000-1746403199@www.lachevaleriedelabreteque.com
SUMMARY:CSO CLUB et PONEY - CHAMPIONNAT DE NORMANDIE - St-Lô - 02-03-04/05/25
DESCRIPTION:Inscription en ligne\n			\n				\n				\n				\n				\n				Veuillez activer JavaScript dans votre navigateur pour remplir ce formulaire.Veuillez activer JavaScript dans votre navigateur pour remplir ce formulaire.Nom *Prénom *Téléphone *E-mail *Nom du cheval *Epreuve *MessageAccord RGPD *Je consens à ce que ce site stocke mes informations envoyées afin que l'on puisse répondre à ma requête.Antispam *Quelle est la quatrième lettre du mot Chevalerie ? \n		\n		\n\n		Envoyer
URL:https://www.lachevaleriedelabreteque.com/evenements/cso-club-et-poney-championnat-de-normandie-st-lo-02-03-04-05-25/
CATEGORIES:Concours
ATTACH;FMTTYPE=image/jpeg:https://www.lachevaleriedelabreteque.com/wp-content/uploads/2023/11/event_cso_st_lo.jpg
END:VEVENT
BEGIN:VEVENT
DTSTART;VALUE=DATE:20250511
DTEND;VALUE=DATE:20250512
DTSTAMP:20260421T193416
CREATED:20241115T112843Z
LAST-MODIFIED:20241115T114605Z
UID:10000076-1746921600-1747007999@www.lachevaleriedelabreteque.com
SUMMARY:HUNTER CLUB ET PONEY - La Chevalerie - 11/05/25
DESCRIPTION:Inscription en ligne\n			\n				\n				\n				\n				\n				Veuillez activer JavaScript dans votre navigateur pour remplir ce formulaire.Veuillez activer JavaScript dans votre navigateur pour remplir ce formulaire.Nom *Prénom *Téléphone *E-mail *Nom du cheval *Epreuve *MessageAccord RGPD *Je consens à ce que ce site stocke mes informations envoyées afin que l'on puisse répondre à ma requête.Antispam *Combien de lettres comporte le mot Chevalerie ? \n		\n		\n\n		Envoyer
URL:https://www.lachevaleriedelabreteque.com/evenements/hunter-club-et-poney-la-chevalerie-11-05-25/
CATEGORIES:Concours
ATTACH;FMTTYPE=image/jpeg:https://www.lachevaleriedelabreteque.com/wp-content/uploads/2023/11/event_hunter_breteque.jpg
END:VEVENT
BEGIN:VEVENT
DTSTART;VALUE=DATE:20250511
DTEND;VALUE=DATE:20250512
DTSTAMP:20260421T193416
CREATED:20241115T114614Z
LAST-MODIFIED:20241115T114614Z
UID:10000078-1746921600-1747007999@www.lachevaleriedelabreteque.com
SUMMARY:HUNTER CLUB ET PONEY - La Chevalerie - 12/01/25
DESCRIPTION:Inscription en ligne\n			\n				\n				\n				\n				\n				Veuillez activer JavaScript dans votre navigateur pour remplir ce formulaire.Veuillez activer JavaScript dans votre navigateur pour remplir ce formulaire.Nom *Prénom *Téléphone *E-mail *Nom du cheval *Epreuve *MessageAccord RGPD *Je consens à ce que ce site stocke mes informations envoyées afin que l'on puisse répondre à ma requête.Antispam *Quelle est la septième lettre du mot Breteque ? \n		\n		\n\n		Envoyer
URL:https://www.lachevaleriedelabreteque.com/evenements/hunter-club-et-poney-la-chevalerie-12-01-25/
CATEGORIES:Concours
ATTACH;FMTTYPE=image/jpeg:https://www.lachevaleriedelabreteque.com/wp-content/uploads/2023/11/event_hunter_breteque.jpg
END:VEVENT
BEGIN:VEVENT
DTSTART;VALUE=DATE:20250518
DTEND;VALUE=DATE:20250519
DTSTAMP:20260421T193416
CREATED:20241115T144559Z
LAST-MODIFIED:20241115T144559Z
UID:10000089-1747526400-1747612799@www.lachevaleriedelabreteque.com
SUMMARY:REMISE DES PRIX DU CHALLENGE - FÊTE DES SPORT ÉTUDES - La Chevalerie - 18/05/25
DESCRIPTION:Inscription en ligne\n			\n				\n				\n				\n				\n				Veuillez activer JavaScript dans votre navigateur pour remplir ce formulaire.Veuillez activer JavaScript dans votre navigateur pour remplir ce formulaire.Nom *Prénom *Téléphone *E-mail *Nom du cheval *Epreuve *MessageAccord RGPD *Je consens à ce que ce site stocke mes informations envoyées afin que l'on puisse répondre à ma requête.Antispam *Combien de lettres comporte le mot Bretèque ? \n		\n		\n\n		Envoyer
URL:https://www.lachevaleriedelabreteque.com/evenements/remise-des-prix-du-challenge-fete-des-sport-etudes-la-chevalerie-18-05-25/
CATEGORIES:Concours
ATTACH;FMTTYPE=image/jpeg:https://www.lachevaleriedelabreteque.com/wp-content/uploads/2024/11/event_challenge_hiver_remise-prix.jpg
END:VEVENT
BEGIN:VEVENT
DTSTART;VALUE=DATE:20250525
DTEND;VALUE=DATE:20250526
DTSTAMP:20260421T193416
CREATED:20241115T112933Z
LAST-MODIFIED:20241115T114622Z
UID:10000077-1748131200-1748217599@www.lachevaleriedelabreteque.com
SUMMARY:CSO CLUB ET PONEY - La Chevalerie - 25/05/25
DESCRIPTION:Inscription en ligne\n			\n				\n				\n				\n				\n				Veuillez activer JavaScript dans votre navigateur pour remplir ce formulaire.Veuillez activer JavaScript dans votre navigateur pour remplir ce formulaire.Nom *Prénom *Téléphone *E-mail *Nom du cheval *Epreuve *MessageAccord RGPD *Je consens à ce que ce site stocke mes informations envoyées afin que l'on puisse répondre à ma requête.Antispam *Combien font huit plus sept ? \n		\n		\n\n		Envoyer
URL:https://www.lachevaleriedelabreteque.com/evenements/cso-club-et-poney-la-chevalerie-25-05-25/
CATEGORIES:Concours
ATTACH;FMTTYPE=image/jpeg:https://www.lachevaleriedelabreteque.com/wp-content/uploads/2023/11/event_cso_breteque.jpg
END:VEVENT
BEGIN:VEVENT
DTSTART;VALUE=DATE:20250529
DTEND;VALUE=DATE:20250530
DTSTAMP:20260421T193416
CREATED:20241115T115515Z
LAST-MODIFIED:20241115T115515Z
UID:10000083-1748476800-1748563199@www.lachevaleriedelabreteque.com
SUMMARY:CSO CLUB ET PONEY - Mont Saint Aignan - 29/05/24
DESCRIPTION:Inscription en ligne\n			\n				\n				\n				\n				\n				Veuillez activer JavaScript dans votre navigateur pour remplir ce formulaire.Veuillez activer JavaScript dans votre navigateur pour remplir ce formulaire.Nom *Prénom *Téléphone *E-mail *Nom du cheval *Epreuve *MessageAccord RGPD *Je consens à ce que ce site stocke mes informations envoyées afin que l'on puisse répondre à ma requête.Antispam *Quelle est la quatrième lettre du mot Chevalerie ? \n		\n		\n\n		Envoyer
URL:https://www.lachevaleriedelabreteque.com/evenements/cso-club-et-poney-mont-saint-aignan-29-05-24/
CATEGORIES:Concours
ATTACH;FMTTYPE=image/jpeg:https://www.lachevaleriedelabreteque.com/wp-content/uploads/2024/11/event_cso_shur.jpg
END:VEVENT
END:VCALENDAR