BEGIN:VCALENDAR
VERSION:2.0
PRODID:-//La Chevalerie de la Breteque - ECPv6.15.20//NONSGML v1.0//EN
CALSCALE:GREGORIAN
METHOD:PUBLISH
X-WR-CALNAME:La Chevalerie de la Breteque
X-ORIGINAL-URL:https://www.lachevaleriedelabreteque.com
X-WR-CALDESC:Évènements pour La Chevalerie de la Breteque
REFRESH-INTERVAL;VALUE=DURATION:PT1H
X-Robots-Tag:noindex
X-PUBLISHED-TTL:PT1H
BEGIN:VTIMEZONE
TZID:Europe/Paris
BEGIN:DAYLIGHT
TZOFFSETFROM:+0100
TZOFFSETTO:+0200
TZNAME:CEST
DTSTART:20220327T010000
END:DAYLIGHT
BEGIN:STANDARD
TZOFFSETFROM:+0200
TZOFFSETTO:+0100
TZNAME:CET
DTSTART:20221030T010000
END:STANDARD
BEGIN:DAYLIGHT
TZOFFSETFROM:+0100
TZOFFSETTO:+0200
TZNAME:CEST
DTSTART:20230326T010000
END:DAYLIGHT
BEGIN:STANDARD
TZOFFSETFROM:+0200
TZOFFSETTO:+0100
TZNAME:CET
DTSTART:20231029T010000
END:STANDARD
BEGIN:DAYLIGHT
TZOFFSETFROM:+0100
TZOFFSETTO:+0200
TZNAME:CEST
DTSTART:20240331T010000
END:DAYLIGHT
BEGIN:STANDARD
TZOFFSETFROM:+0200
TZOFFSETTO:+0100
TZNAME:CET
DTSTART:20241027T010000
END:STANDARD
END:VTIMEZONE
BEGIN:VEVENT
DTSTART;TZID=Europe/Paris:20230604T100000
DTEND;TZID=Europe/Paris:20230604T183000
DTSTAMP:20260423T234950
CREATED:20230509T211955Z
LAST-MODIFIED:20230512T145711Z
UID:10000004-1685872800-1685903400@www.lachevaleriedelabreteque.com
SUMMARY:Fête du cheval 2023
DESCRIPTION:La chevalerie organise des spectacles équestres\, des baptêmes poney gratuits à l’occasion de la fête du cheval 2023 qui aura lieu le dimanche 04 juin de 10h à 18h30. \nVenez nombreux ! \nà bientôt
URL:https://www.lachevaleriedelabreteque.com/evenements/fete-du-cheval-2023/
CATEGORIES:Évènements Club
ATTACH;FMTTYPE=image/jpeg:https://www.lachevaleriedelabreteque.com/wp-content/uploads/2023/05/fete-du-cheval-2023.jpg
END:VEVENT
END:VCALENDAR